BEGIN:VCALENDAR
PRODID:-//Session events Calendar//IBA//EN
CALSCALE:GREGORIAN
VERSION:2.0
BEGIN:VEVENT
DTSTAMP:20260424T184137Z
DTSTART:20260710T080000Z
DTEND:20260710T091500Z
SUMMARY:How should judges and advocates use AI?
DESCRIPTION:
LOCATION:
UID:73fd5dbe-f242-4b28-8fd5-a1ade9658cba
END:VEVENT
END:VCALENDAR
