BEGIN:VCALENDAR
PRODID:-//Session events Calendar//IBA//EN
CALSCALE:GREGORIAN
VERSION:2.0
BEGIN:VEVENT
DTSTAMP:20260425T182951Z
DTSTART:20260710T091500Z
DTEND:20260710T103000Z
SUMMARY:Advocacy - What do judges want?
DESCRIPTION:
LOCATION:
UID:8f91a764-7da3-4bef-b493-239bff952c24
END:VEVENT
END:VCALENDAR
