BEGIN:VCALENDAR
PRODID:-//Session events Calendar//IBA//EN
CALSCALE:GREGORIAN
VERSION:2.0
BEGIN:VEVENT
DTSTAMP:20260425T215235Z
DTSTART:20260710T110000Z
DTEND:20260710T121500Z
SUMMARY:Natural selection? From where should judges come?
DESCRIPTION:
LOCATION:
UID:e87b8220-5456-4b79-8f54-73ad5fe1bc46
END:VEVENT
END:VCALENDAR
