BEGIN:VCALENDAR
PRODID:-//Session events Calendar//IBA//EN
CALSCALE:GREGORIAN
VERSION:2.0
BEGIN:VEVENT
DTSTAMP:20260425T213141Z
DTSTART:20260710T121500Z
DTEND:20260710T123000Z
SUMMARY:Closing remarks
DESCRIPTION:
LOCATION:
UID:59fa6f9b-c960-4973-9c73-7238656b3215
END:VEVENT
END:VCALENDAR
