BEGIN:VCALENDAR
PRODID:-//Session events Calendar//IBA//EN
CALSCALE:GREGORIAN
VERSION:2.0
BEGIN:VEVENT
DTSTAMP:20260426T005334Z
DTSTART:20210521T123000Z
DTEND:20210521T134500Z
SUMMARY:Post-programme networking
DESCRIPTION:
LOCATION:
UID:0b64b4e1-a216-47d7-8fca-c0dd340c7347
END:VEVENT
END:VCALENDAR
