BEGIN:VCALENDAR
PRODID:-//Session events Calendar//IBA//EN
CALSCALE:GREGORIAN
VERSION:2.0
BEGIN:VEVENT
DTSTAMP:20260424T181519Z
DTSTART:20210702T120500Z
DTEND:20210702T130000Z
SUMMARY:Justice\, the courts and Covid-19: the need for the judiciary to 
 innovate
DESCRIPTION:
LOCATION:Zoom webinar 
UID:4f4a8376-51d0-4ae2-8218-10e753ce37a2
END:VEVENT
END:VCALENDAR
