BEGIN:VCALENDAR
PRODID:-//Session events Calendar//IBA//EN
CALSCALE:GREGORIAN
VERSION:2.0
BEGIN:VEVENT
DTSTAMP:20260424T105358Z
DTSTART:20211022T151500Z
DTEND:20211022T155000Z
SUMMARY:BD in the New Emerging Hybrid Business World of Both Face-to-Face
  & Virtual BD
DESCRIPTION:It’s been a tough year for many lawyers on the Business Devel
 opment front. For periods of lockdown you may have felt that your hands 
 were tied – you weren’t able to get out there and network and meet with 
 your clients and potential clients. You’ve had to learn how to do lots o
 f your BD on social media platforms\, at virtual events and on Zoom/Team
 s meetings. Now we are emerging into this new hybrid business world wher
 e it looks like most of us can expect to be doing a mix of face-to-face 
 BD and still doing it virtually. Would you like to feel re-invigorated\,
  energised and more positive and confident about business development?\n
 
LOCATION:
UID:e39e0426-8654-4739-b34c-9580ca28e232
END:VEVENT
END:VCALENDAR
