BEGIN:VCALENDAR
PRODID:-//Session events Calendar//IBA//EN
CALSCALE:GREGORIAN
VERSION:2.0
BEGIN:VEVENT
DTSTAMP:20260422T230458Z
DTSTART:20210927T150500Z
DTEND:20210927T151500Z
SUMMARY:Introduction from the IBA
DESCRIPTION:
LOCATION:
UID:85f0b0a7-86fe-4885-914f-76bc9924af8c
END:VEVENT
END:VCALENDAR
