BEGIN:VCALENDAR
PRODID:-//Session events Calendar//IBA//EN
CALSCALE:GREGORIAN
VERSION:2.0
BEGIN:VEVENT
DTSTAMP:20260420T153430Z
DTSTART:20211012T084500Z
DTEND:20211012T100000Z
SUMMARY:How is 5G changing the telco paradigm and what are the legal chal
 lenges? 
DESCRIPTION:For the past year\, the telecommunications field has had to d
 rive through a challenging road to shape the main pillars and standards 
 for 5G. Nowadays\, in a time when most of the developed countries have a
 lready granted licenses for deploying and operating 5G networks within t
 heir territories\, a series of legal\, regulatory\, competition and secu
 rity concerns around 5G has the potential to make the path for achieving
  its full development not as smooth as it could be.\n\nNotwithstanding s
 tates and supranational organisation have always treated telecommunicati
 ons as a strategic matter\, the arrival of 5G along with the commercial 
 and technological race - mainly led by the USA and China - has compelled
  such entities to consider 5G networks as one of the most significant na
 tional and international economic and security issues of recent years. T
 hus\, the telecommunications community is focusing on analysing how to d
 eal with the expected 5G deployment pace and the swift emergence of inno
 vative 5G applications within a robust legal and regulatory framework th
 at could protect national interests\, ensure free competition\, and guar
 antee citizens/consumers digital rights.\n\nThis panel will address the 
 legal and regulatory challenges for the deployment and operation of 5G n
 etworks\, especially concerning infrastructure and equipment\, cybersecu
 rity\, technology dependence\, new applications\, and the need of coordi
 nation between states and supranational organisations.\n
LOCATION:
UID:efed7122-1eaf-4958-a5b9-abcf22c06a20
END:VEVENT
END:VCALENDAR
