BEGIN:VCALENDAR
PRODID:-//Session events Calendar//IBA//EN
CALSCALE:GREGORIAN
VERSION:2.0
BEGIN:VEVENT
DTSTAMP:20260425T161821Z
DTSTART:20211109T130100Z
DTEND:20211109T135900Z
SUMMARY:Fast-tracking the commercial deployment of Carbon Capture Utilisa
 tion and Storage (CCUS)
DESCRIPTION:
LOCATION:
UID:0fddc075-f6c3-4d01-b06e-904cf650ec45
END:VEVENT
END:VCALENDAR
