BEGIN:VCALENDAR
PRODID:-//Session events Calendar//IBA//EN
CALSCALE:GREGORIAN
VERSION:2.0
BEGIN:VEVENT
DTSTAMP:20260419T152256Z
DTSTART:20211021T160100Z
DTEND:20211021T165900Z
SUMMARY:ESG oil and gas general counsel and regulators discuss recent dev
 elopments and what the future holds
DESCRIPTION:
LOCATION:
UID:63f0282d-18e8-41c0-9514-51a36cbeb15c
END:VEVENT
END:VCALENDAR
