BEGIN:VCALENDAR
PRODID:-//Session events Calendar//IBA//EN
CALSCALE:GREGORIAN
VERSION:2.0
BEGIN:VEVENT
DTSTAMP:20260421T140119Z
DTSTART:20211208T164500Z
DTEND:20211208T174500Z
SUMMARY:Data privacy\, cybersecurity\, AI\, remote work 
DESCRIPTION:Technological developments in the last decades have been expo
 nential\, leading the way for the ‘Fourth Industrial Revolution’. The Co
 vid-19 pandemic has accelerated this revolution even\nfurther and faster
 .\n\nIn this session questions will be addressed\, including:\n- What le
 gal challenges are being faced by industries in connection with data pri
 vacy and data protection issues?\n- How can industries protect themselve
 s from cybersecurity risks?\n- How should artificial intelligence be reg
 ulated?\n- What challenges does remote working bring corporations?\n
LOCATION:
UID:551dac89-18e2-4a58-85b7-80daf42af330
END:VEVENT
END:VCALENDAR
