BEGIN:VCALENDAR
PRODID:-//Session events Calendar//IBA//EN
CALSCALE:GREGORIAN
VERSION:2.0
BEGIN:VEVENT
DTSTAMP:20260420T113422Z
DTSTART:20221201T193000Z
DTEND:20221201T223000Z
SUMMARY:Conference dinner
DESCRIPTION:The Law Society is an integral player in the City of London’s
  history\; its magnificent building has been at the very centre of the l
 egal world since its completion in 1832. This significant venue plays an
  important part in the history of this conference as it was the location
  of the very first IBA Biennial Global Immigration Conference\, which to
 ok place in 2003. Join us for an enjoyable evening embracing the ambienc
 e and memories of previous IBA Immigration conferences.\n
LOCATION:The Common Room\, The Law Society of England and Wales 
UID:8340a997-3596-4ec4-af75-023738d46de1
END:VEVENT
END:VCALENDAR
