BEGIN:VCALENDAR
PRODID:-//Session events Calendar//IBA//EN
CALSCALE:GREGORIAN
VERSION:2.0
BEGIN:VEVENT
DTSTAMP:20260420T113428Z
DTSTART:20221130T190000Z
DTEND:20221130T210000Z
SUMMARY:Welcome reception
DESCRIPTION:
LOCATION:Lower Thames Room\, The Mermaid Centre
UID:ff3e05ba-5560-4a9b-94db-2ac53e1be388
END:VEVENT
END:VCALENDAR
