BEGIN:VCALENDAR
PRODID:-//Session events Calendar//IBA//EN
CALSCALE:GREGORIAN
VERSION:2.0
BEGIN:VEVENT
DTSTAMP:20260425T182952Z
DTSTART:20230116T183000Z
DTEND:20230116T223000Z
SUMMARY:Conference dinner
DESCRIPTION:
LOCATION:Gladstone Library\, Royal Horseguards Hotel\, 2 Whitehall Ct\, L
 ondon\, SW1A 2EJ
UID:f186d441-217d-4de5-931d-20bc0cb8a7cb
END:VEVENT
END:VCALENDAR
