BEGIN:VCALENDAR
PRODID:-//Session events Calendar//IBA//EN
CALSCALE:GREGORIAN
VERSION:2.0
BEGIN:VEVENT
DTSTAMP:20260420T113422Z
DTSTART:20221202T183000Z
DTEND:20221202T200000Z
SUMMARY:Closing reception
DESCRIPTION:
LOCATION:ClubTEN\, Leonardo Royal Hotel London St Paul’s
UID:0a8a2b34-7049-490d-a3ab-c5767a842567
END:VEVENT
END:VCALENDAR
