BEGIN:VCALENDAR
PRODID:-//Session events Calendar//IBA//EN
CALSCALE:GREGORIAN
VERSION:2.0
BEGIN:VEVENT
DTSTAMP:20260419T145153Z
DTSTART:20230601T233000Z
DTEND:20230602T023000Z
SUMMARY:Conference Dinner
DESCRIPTION:
LOCATION:Mastro's
UID:3dbf94df-f28d-4025-8832-a1e654446c76
END:VEVENT
END:VCALENDAR
