BEGIN:VCALENDAR
PRODID:-//Session events Calendar//IBA//EN
CALSCALE:GREGORIAN
VERSION:2.0
BEGIN:VEVENT
DTSTAMP:20260425T201314Z
DTSTART:20230928T170000Z
DTEND:20230928T190000Z
SUMMARY:Conference Reception
DESCRIPTION:
LOCATION:Garden rooms
UID:ebb99368-04f1-4571-ad0a-37eb235860b7
END:VEVENT
END:VCALENDAR
