BEGIN:VCALENDAR
PRODID:-//Session events Calendar//IBA//EN
CALSCALE:GREGORIAN
VERSION:2.0
BEGIN:VEVENT
DTSTAMP:20260424T091605Z
DTSTART:20230914T220000Z
DTEND:20230915T003000Z
SUMMARY:Welcome reception offered by the local host committee
DESCRIPTION:
LOCATION:
UID:dddf48f3-8f6e-48fc-943c-48ff1a0a7bad
END:VEVENT
END:VCALENDAR
