BEGIN:VCALENDAR
PRODID:-//Session events Calendar//IBA//EN
CALSCALE:GREGORIAN
VERSION:2.0
BEGIN:VEVENT
DTSTAMP:20260419T145019Z
DTSTART:20230531T223000Z
DTEND:20230601T003000Z
SUMMARY:Hosted Reception
DESCRIPTION:Local Host Committee \n\nArentFox Schiff LLP\nArnold &amp\; P
 orter Kaye Scholer\nFaegre Drinker Biddle &amp\; Reath\nHolland &amp\; K
 night\nHyman\, Phelps &amp\; McNamara\, P.C.\nKing &amp\; Spalding\nMcDe
 rmott Will &amp\; Emery\nMintz Levin Cohn\, Ferris Glovsky and Popeo\nMo
 rgan\, Lewis &amp\; Bockius\nNixon Peabody\nRopes &amp\; Gray\nSidley Au
 stin\nSterne Kessler Goldstein &amp\; Fox\n
LOCATION:601 Massachusetts Avenue NW\, Washington DC
UID:fc786934-ad1a-4aa9-87d1-770de10c91c1
END:VEVENT
END:VCALENDAR
