BEGIN:VCALENDAR
PRODID:-//Session events Calendar//IBA//EN
CALSCALE:GREGORIAN
VERSION:2.0
BEGIN:VEVENT
DTSTAMP:20260419T143256Z
DTSTART:20230915T170000Z
DTEND:20230915T200000Z
SUMMARY:Closing dinner
DESCRIPTION:
LOCATION:
UID:26a5a6de-4bcf-4fbf-b3cd-15cf6f30fde8
END:VEVENT
END:VCALENDAR
