BEGIN:VCALENDAR
PRODID:-//Session events Calendar//IBA//EN
CALSCALE:GREGORIAN
VERSION:2.0
BEGIN:VEVENT
DTSTAMP:20260425T133450Z
DTSTART:20240410T170000Z
DTEND:20240410T190000Z
SUMMARY:Host Committee reception
DESCRIPTION:Inscale Rooftp is a 5-minute walk from the Conference hotel.\
 n\nStart the Conference in style at this reception\, offered by the Loca
 l Host Committee. Join IBA Committee Officers\, Conference speakers and 
 delegates to network over drinks and canapés in a rooftop bar with Lisbo
 n’s skyline at your feet. The reception is open to all registered delega
 tes\; however\, please indicate your attendance when registering.\n\nLoc
 al Host Committee\nAbreu Advogados\nCuatrecasas\nMoraes Leitão\nFerreira
  Pinto Cardigos Associados\nValadas Coriel\nVieira de Almeida\n
LOCATION:Inscale Rooftop
UID:1238883e-6dfd-4bad-b7c1-d1ff91aa1c7f
END:VEVENT
END:VCALENDAR
