BEGIN:VCALENDAR
PRODID:-//Session events Calendar//IBA//EN
CALSCALE:GREGORIAN
VERSION:2.0
BEGIN:VEVENT
DTSTAMP:20260425T132926Z
DTSTART:20240411T190000Z
DTEND:20240411T213000Z
SUMMARY:Conference dinner
DESCRIPTION:
LOCATION:Palácio Conde d’Óbidos
UID:17d51319-cb66-402c-a06f-e231c4e1ce2e
END:VEVENT
END:VCALENDAR
