BEGIN:VCALENDAR
PRODID:-//Session events Calendar//IBA//EN
CALSCALE:GREGORIAN
VERSION:2.0
BEGIN:VEVENT
DTSTAMP:20260422T015652Z
DTSTART:20240603T170000Z
DTEND:20240603T200000Z
SUMMARY:Conference reception and dinner 
DESCRIPTION:
LOCATION:Zunfthaus zur Schmiden
UID:4ae8d84c-0147-4a3b-9dab-e741a77a8e01
END:VEVENT
END:VCALENDAR
