BEGIN:VCALENDAR
PRODID:-//Session events Calendar//IBA//EN
CALSCALE:GREGORIAN
VERSION:2.0
BEGIN:VEVENT
DTSTAMP:20260421T204305Z
DTSTART:20240508T163000Z
DTEND:20240508T183000Z
SUMMARY:Welcome Reception
DESCRIPTION:
LOCATION:Terrazza Palestro
UID:cb023ff0-8e13-4ca9-846b-ce5aa3a21a8f
END:VEVENT
END:VCALENDAR
