BEGIN:VCALENDAR
PRODID:-//Session events Calendar//IBA//EN
CALSCALE:GREGORIAN
VERSION:2.0
BEGIN:VEVENT
DTSTAMP:20260425T230135Z
DTSTART:20240515T170000Z
DTEND:20240515T190000Z
SUMMARY:Welcome Reception
DESCRIPTION:
LOCATION:The Alex Hotel
UID:2e918e2d-997a-4027-bed0-6dd65c962b27
END:VEVENT
END:VCALENDAR
