BEGIN:VCALENDAR
PRODID:-//Session events Calendar//IBA//EN
CALSCALE:GREGORIAN
VERSION:2.0
BEGIN:VEVENT
DTSTAMP:20260426T002711Z
DTSTART:20240517T183000Z
DTEND:20240517T220000Z
SUMMARY:Conference dinner
DESCRIPTION:
LOCATION:The Banking Hall
UID:e745fb28-cf0a-4e4d-bad9-62e6201ed860
END:VEVENT
END:VCALENDAR
