BEGIN:VCALENDAR
PRODID:-//Session events Calendar//IBA//EN
CALSCALE:GREGORIAN
VERSION:2.0
BEGIN:VEVENT
DTSTAMP:20260419T162220Z
DTSTART:20240417T230000Z
DTEND:20240418T010000Z
SUMMARY:Welcome reception
DESCRIPTION:
LOCATION:
UID:942d9a04-b8bb-42fc-8c50-5eb6d7f9d67e
END:VEVENT
END:VCALENDAR
