BEGIN:VCALENDAR
PRODID:-//Session events Calendar//IBA//EN
CALSCALE:GREGORIAN
VERSION:2.0
BEGIN:VEVENT
DTSTAMP:20260426T014003Z
DTSTART:20240131T220000Z
DTEND:20240201T000000Z
SUMMARY:Opening cocktail
DESCRIPTION:
LOCATION:
UID:962635e3-551e-43bb-babb-a64c0335be03
END:VEVENT
END:VCALENDAR
