BEGIN:VCALENDAR
PRODID:-//Session events Calendar//IBA//EN
CALSCALE:GREGORIAN
VERSION:2.0
BEGIN:VEVENT
DTSTAMP:20260426T013928Z
DTSTART:20240201T223000Z
DTEND:20240202T010000Z
SUMMARY:Welcome reception offered by the local host committee
DESCRIPTION:
LOCATION:
UID:6a0ee4fa-db5b-4f69-b2bf-82406f95c33c
END:VEVENT
END:VCALENDAR
