BEGIN:VCALENDAR
PRODID:-//Session events Calendar//IBA//EN
CALSCALE:GREGORIAN
VERSION:2.0
BEGIN:VEVENT
DTSTAMP:20260426T032410Z
DTSTART:20240918T184500Z
DTEND:20240918T201500Z
SUMMARY:Legal Practice Division lunch
DESCRIPTION:Price: $95\n\n\n
LOCATION:PALACIO DE VALPARAÍSO 2\, LEVEL E1
UID:0f8426a5-8539-47bc-8673-65438ee18647
END:VEVENT
END:VCALENDAR
