BEGIN:VCALENDAR
PRODID:-//Session events Calendar//IBA//EN
CALSCALE:GREGORIAN
VERSION:2.0
BEGIN:VEVENT
DTSTAMP:20260421T204313Z
DTSTART:20240509T180000Z
DTEND:20240509T210000Z
SUMMARY:Host Committee Reception
DESCRIPTION:
LOCATION:Triennale Milano
UID:b1572034-eba9-4dca-bc0b-25477b3dc8a0
END:VEVENT
END:VCALENDAR
