BEGIN:VCALENDAR
PRODID:-//Session events Calendar//IBA//EN
CALSCALE:GREGORIAN
VERSION:2.0
BEGIN:VEVENT
DTSTAMP:20260425T123653Z
DTSTART:20240412T130000Z
DTEND:20240412T163000Z
SUMMARY:Real Estate tour
DESCRIPTION:An overview of Lisbon's real estate from the Tagus river. Coa
 ch transfers from the Tivoli Hotel will be provided.
LOCATION:Tagus river cruise
UID:5a77224a-7d06-48e6-b83b-f1c129cf78ba
END:VEVENT
END:VCALENDAR
