BEGIN:VCALENDAR
PRODID:-//Session events Calendar//IBA//EN
CALSCALE:GREGORIAN
VERSION:2.0
BEGIN:VEVENT
DTSTAMP:20260422T015746Z
DTSTART:20240602T163000Z
DTEND:20240602T183000Z
SUMMARY:Host committee reception
DESCRIPTION:
LOCATION:Sonnenberg
UID:20534567-cd4b-4048-86bf-b13cf936868e
END:VEVENT
END:VCALENDAR
