BEGIN:VCALENDAR
PRODID:-//Session events Calendar//IBA//EN
CALSCALE:GREGORIAN
VERSION:2.0
BEGIN:VEVENT
DTSTAMP:20260422T130745Z
DTSTART:20250302T180000Z
DTEND:20250302T193000Z
SUMMARY:Welcome reception
DESCRIPTION:
LOCATION:Phillips Auction House
UID:b04ee401-6482-4f93-8d4e-b34c1c9e9629
END:VEVENT
END:VCALENDAR
