BEGIN:VCALENDAR
PRODID:-//Session events Calendar//IBA//EN
CALSCALE:GREGORIAN
VERSION:2.0
BEGIN:VEVENT
DTSTAMP:20260422T130745Z
DTSTART:20250303T190000Z
DTEND:20250303T220000Z
SUMMARY:30th Anniversary Conference reception and dinner
DESCRIPTION:
LOCATION:The National Gallery
UID:cefe4d93-b99e-4bff-9b45-113b2d7177f3
END:VEVENT
END:VCALENDAR
