BEGIN:VCALENDAR
PRODID:-//Session events Calendar//IBA//EN
CALSCALE:GREGORIAN
VERSION:2.0
BEGIN:VEVENT
DTSTAMP:20260425T140418Z
DTSTART:20241204T180000Z
DTEND:20241204T210000Z
SUMMARY:Conference Dinner
DESCRIPTION:Located in Frankfurt’s diplomatic quarter\, Villa Merton is h
 ome to the Union International Club. Built in 1927\, this neo-baroque to
 wn house now hosts Michelin-starred chef André Großfeld and his team. En
 joy an evening of networking with your fellow delegates in this elegant 
 setting.\n\nTicket price: €150\n\nEntry is by pre-registration only. One
  place per registered delegate is permitted.\n\nTransport will not be pr
 ovided.\n
LOCATION:Villa Merton
UID:1b552bae-57b4-4e8c-8b26-a6f12553d161
END:VEVENT
END:VCALENDAR
