BEGIN:VCALENDAR
PRODID:-//Session events Calendar//IBA//EN
CALSCALE:GREGORIAN
VERSION:2.0
BEGIN:VEVENT
DTSTAMP:20260426T032405Z
DTSTART:20240918T183000Z
DTEND:20240918T213000Z
SUMMARY:Antitrust Section lunch
DESCRIPTION:Price: $110\n
LOCATION:Hacienda de los Morales - Salon Moreras
UID:50250d7a-2465-4dea-9f11-3bfe4b5ffd32
END:VEVENT
END:VCALENDAR
