BEGIN:VCALENDAR
PRODID:-//Session events Calendar//IBA//EN
CALSCALE:GREGORIAN
VERSION:2.0
BEGIN:VEVENT
DTSTAMP:20260426T020920Z
DTSTART:20240917T233000Z
DTEND:20240918T003000Z
SUMMARY:China Working Group drinks reception
DESCRIPTION:
LOCATION:CASA DEL DIEZMO 4\, LEVEL S
UID:d0ea6ad0-4929-438b-b8d3-8b57bae82c11
END:VEVENT
END:VCALENDAR
