BEGIN:VCALENDAR
PRODID:-//Session events Calendar//IBA//EN
CALSCALE:GREGORIAN
VERSION:2.0
BEGIN:VEVENT
DTSTAMP:20260422T144556Z
DTSTART:20241017T170000Z
DTEND:20241017T190000Z
SUMMARY:Conference reception
DESCRIPTION:
LOCATION:
UID:7878ecf9-708f-42e9-83d7-04d2671892e0
END:VEVENT
END:VCALENDAR
