BEGIN:VCALENDAR
PRODID:-//Session events Calendar//IBA//EN
CALSCALE:GREGORIAN
VERSION:2.0
BEGIN:VEVENT
DTSTAMP:20260420T132739Z
DTSTART:20241025T180000Z
DTEND:20241025T200000Z
SUMMARY:Afternoon tea
DESCRIPTION:All delegates are welcome to attend. One place per registered
  delegate is permitted at no extra cost.\n\nNo transport will be provide
 d\, but the Shangri-La is a nine-minute walk from the Ritz-Carlton.\n
LOCATION:Shangri-La Hotel
UID:9c90d77d-bef4-4d0a-b651-964b529d7517
END:VEVENT
END:VCALENDAR
