BEGIN:VCALENDAR
PRODID:-//Session events Calendar//IBA//EN
CALSCALE:GREGORIAN
VERSION:2.0
BEGIN:VEVENT
DTSTAMP:20260425T163015Z
DTSTART:20241106T100000Z
DTEND:20241106T120000Z
SUMMARY:Host Committee cocktail reception
DESCRIPTION:
LOCATION:Cook & Brew
UID:b78ad24b-0223-4b2d-a8f7-dddbffdfe2bd
END:VEVENT
END:VCALENDAR
