BEGIN:VCALENDAR
PRODID:-//Session events Calendar//IBA//EN
CALSCALE:GREGORIAN
VERSION:2.0
BEGIN:VEVENT
DTSTAMP:20260426T015254Z
DTSTART:20240918T003000Z
DTEND:20240918T033000Z
SUMMARY:International Franchising Committee dinner
DESCRIPTION:Price: $170\n
LOCATION:Marea
UID:a3eaaed5-58e1-4944-b2c7-29cfd6b37ccb
END:VEVENT
END:VCALENDAR
