BEGIN:VCALENDAR
PRODID:-//Session events Calendar//IBA//EN
CALSCALE:GREGORIAN
VERSION:2.0
BEGIN:VEVENT
DTSTAMP:20260426T015254Z
DTSTART:20240918T010000Z
DTEND:20240918T040000Z
SUMMARY:Business Human Rights Committee dinner
DESCRIPTION:Price:$180\n
LOCATION:Hacienda de los Morales - Caballitos
UID:6f23f2e7-93d8-41cc-8885-be3e48013544
END:VEVENT
END:VCALENDAR
