BEGIN:VCALENDAR
PRODID:-//Session events Calendar//IBA//EN
CALSCALE:GREGORIAN
VERSION:2.0
BEGIN:VEVENT
DTSTAMP:20260426T015254Z
DTSTART:20240918T010000Z
DTEND:20240918T050000Z
SUMMARY:Corporate and M&A Law Committee dinner
DESCRIPTION:Price: $180\n
LOCATION:Hacienda de los Morales - Jardin
UID:63064445-5a75-4933-af8d-91213bb3437b
END:VEVENT
END:VCALENDAR
