BEGIN:VCALENDAR
PRODID:-//Session events Calendar//IBA//EN
CALSCALE:GREGORIAN
VERSION:2.0
BEGIN:VEVENT
DTSTAMP:20260426T015233Z
DTSTART:20240918T020000Z
DTEND:20240918T050000Z
SUMMARY:Real Estate Section dinner
DESCRIPTION:Price: $135\n
LOCATION:Ajoblanco
UID:2bcf9c0a-aaaa-4d5a-938c-2559fe40bdd7
END:VEVENT
END:VCALENDAR
