BEGIN:VCALENDAR
PRODID:-//Session events Calendar//IBA//EN
CALSCALE:GREGORIAN
VERSION:2.0
BEGIN:VEVENT
DTSTAMP:20260426T020831Z
DTSTART:20240918T020000Z
DTEND:20240918T050000Z
SUMMARY:Section on Energy\, Environment\, Natural Resources and Infrastru
 cture Law (SEERIL) dinner  
DESCRIPTION:Price: $230\n
LOCATION:Fonico
UID:ecb0fe4d-1cf5-48f4-b836-dfa17dc987a9
END:VEVENT
END:VCALENDAR
