BEGIN:VCALENDAR
PRODID:-//Session events Calendar//IBA//EN
CALSCALE:GREGORIAN
VERSION:2.0
BEGIN:VEVENT
DTSTAMP:20260424T132855Z
DTSTART:20240920T230000Z
DTEND:20240921T003000Z
SUMMARY:Drinks reception
DESCRIPTION:
LOCATION:
UID:29f90f62-0540-49c4-97d9-da180958672c
END:VEVENT
END:VCALENDAR
