BEGIN:VCALENDAR
PRODID:-//Session events Calendar//IBA//EN
CALSCALE:GREGORIAN
VERSION:2.0
BEGIN:VEVENT
DTSTAMP:20260424T185544Z
DTSTART:20250507T160000Z
DTEND:20250507T180000Z
SUMMARY:Welcome Reception
DESCRIPTION:
LOCATION:Sjømagasinet
UID:a5075378-e3cf-41dd-82e7-5fad5d3102da
END:VEVENT
END:VCALENDAR
