BEGIN:VCALENDAR
PRODID:-//Session events Calendar//IBA//EN
CALSCALE:GREGORIAN
VERSION:2.0
BEGIN:VEVENT
DTSTAMP:20260424T185544Z
DTSTART:20250508T170000Z
DTEND:20250508T190000Z
SUMMARY:Hosted Reception
DESCRIPTION:
LOCATION:Høymagasinet
UID:375a7d3c-e1ed-40f3-a348-e11567a52c40
END:VEVENT
END:VCALENDAR
